BEGIN:VCALENDAR
VERSION:2.0
PRODID:-//Vespa Club of Britain - ECPv6.15.20//NONSGML v1.0//EN
CALSCALE:GREGORIAN
METHOD:PUBLISH
X-ORIGINAL-URL:https://vespaclub.uk
X-WR-CALDESC:Events for Vespa Club of Britain
REFRESH-INTERVAL;VALUE=DURATION:PT1H
X-Robots-Tag:noindex
X-PUBLISHED-TTL:PT1H
BEGIN:VTIMEZONE
TZID:Europe/London
BEGIN:DAYLIGHT
TZOFFSETFROM:+0000
TZOFFSETTO:+0100
TZNAME:BST
DTSTART:20240331T010000
END:DAYLIGHT
BEGIN:STANDARD
TZOFFSETFROM:+0100
TZOFFSETTO:+0000
TZNAME:GMT
DTSTART:20241027T010000
END:STANDARD
BEGIN:DAYLIGHT
TZOFFSETFROM:+0000
TZOFFSETTO:+0100
TZNAME:BST
DTSTART:20250330T010000
END:DAYLIGHT
BEGIN:STANDARD
TZOFFSETFROM:+0100
TZOFFSETTO:+0000
TZNAME:GMT
DTSTART:20251026T010000
END:STANDARD
BEGIN:DAYLIGHT
TZOFFSETFROM:+0000
TZOFFSETTO:+0100
TZNAME:BST
DTSTART:20260329T010000
END:DAYLIGHT
BEGIN:STANDARD
TZOFFSETFROM:+0100
TZOFFSETTO:+0000
TZNAME:GMT
DTSTART:20261025T010000
END:STANDARD
END:VTIMEZONE
BEGIN:VEVENT
DTSTART;TZID=Europe/London:20250606T120000
DTEND;TZID=Europe/London:20250608T120000
DTSTAMP:20260420T094015
CREATED:20250112T164830Z
LAST-MODIFIED:20250420T174636Z
UID:77893-1749211200-1749384000@vespaclub.uk
SUMMARY:Walesby. 60th Anniversary Rally Nottingham Branch
DESCRIPTION:Walesby. 60th Anniversary Rally Nottingham Branch.\nWalesby Forest\nBrake Road\, Walesby\,\nNewark. NG22 9NG\nThis is a ticket only event.\nPlease click link below\n  \n  \n  \n  \n  \n  \n  \n  \nhttps://buytickets.at/thevespaclubofbritain/1672883\n  \nVCB Attendance Championship\, Signing on Events 2025
URL:https://vespaclub.uk/event/walesby-60th-anniversary-rally-nottingham-branch/
CATEGORIES:Members Only
ATTACH;FMTTYPE=image/jpeg:https://vespaclub.uk/wp-content/uploads/2025/01/472570434_10161123586102817_3000821167131242806_n.jpg
END:VEVENT
BEGIN:VEVENT
DTSTART;VALUE=DATE:20250608
DTEND;VALUE=DATE:20250609
DTSTAMP:20260420T094015
CREATED:20241027T231022Z
LAST-MODIFIED:20250121T155042Z
UID:76783-1749340800-1749427199@vespaclub.uk
SUMMARY:Farnborough Hurricanes Meet and Greet Day
DESCRIPTION:Farnborough Hurricanes welcome everyone to their meet and greet day at Farnborough FC Ground. \n10:00 Onwards \n\n\nBR Saunders Transport Community Stadium\, Cherrywood Rd\, Farnborough GU14 8UD
URL:https://vespaclub.uk/event/farnborough-hurricanes-meet-and-greet-day/
CATEGORIES:General Public
ATTACH;FMTTYPE=image/png:https://vespaclub.uk/wp-content/uploads/2020/06/Farnborough-Hurricanes-Cog-Badge.png
END:VEVENT
END:VCALENDAR