BEGIN:VCALENDAR
VERSION:2.0
PRODID:-//Vespa Club of Britain - ECPv6.15.20//NONSGML v1.0//EN
CALSCALE:GREGORIAN
METHOD:PUBLISH
X-ORIGINAL-URL:https://vespaclub.uk
X-WR-CALDESC:Events for Vespa Club of Britain
REFRESH-INTERVAL;VALUE=DURATION:PT1H
X-Robots-Tag:noindex
X-PUBLISHED-TTL:PT1H
BEGIN:VTIMEZONE
TZID:Europe/London
BEGIN:DAYLIGHT
TZOFFSETFROM:+0000
TZOFFSETTO:+0100
TZNAME:BST
DTSTART:20250330T010000
END:DAYLIGHT
BEGIN:STANDARD
TZOFFSETFROM:+0100
TZOFFSETTO:+0000
TZNAME:GMT
DTSTART:20251026T010000
END:STANDARD
BEGIN:DAYLIGHT
TZOFFSETFROM:+0000
TZOFFSETTO:+0100
TZNAME:BST
DTSTART:20260329T010000
END:DAYLIGHT
BEGIN:STANDARD
TZOFFSETFROM:+0100
TZOFFSETTO:+0000
TZNAME:GMT
DTSTART:20261025T010000
END:STANDARD
BEGIN:DAYLIGHT
TZOFFSETFROM:+0000
TZOFFSETTO:+0100
TZNAME:BST
DTSTART:20270328T010000
END:DAYLIGHT
BEGIN:STANDARD
TZOFFSETFROM:+0100
TZOFFSETTO:+0000
TZNAME:GMT
DTSTART:20271031T010000
END:STANDARD
END:VTIMEZONE
BEGIN:VEVENT
DTSTART;VALUE=DATE:20260607
DTEND;VALUE=DATE:20260608
DTSTAMP:20260420T121838
CREATED:20260112T141145Z
LAST-MODIFIED:20260120T212636Z
UID:83112-1780790400-1780876799@vespaclub.uk
SUMMARY:Farnborough Hurricanes Meet and Greet.
DESCRIPTION:See flyer for all details.
URL:https://vespaclub.uk/event/farnborough-hurricanes-meet-and-greet/
CATEGORIES:General Public,Members Only
ATTACH;FMTTYPE=image/jpeg:https://vespaclub.uk/wp-content/uploads/2026/01/Farnborough-Hurricanes-Meet-and-Greet-2026.jpg
END:VEVENT
END:VCALENDAR