BEGIN:VCALENDAR
VERSION:2.0
PRODID:-//Vespa Club of Britain - ECPv6.15.20//NONSGML v1.0//EN
CALSCALE:GREGORIAN
METHOD:PUBLISH
X-WR-CALNAME:Vespa Club of Britain
X-ORIGINAL-URL:https://vespaclub.uk
X-WR-CALDESC:Events for Vespa Club of Britain
REFRESH-INTERVAL;VALUE=DURATION:PT1H
X-Robots-Tag:noindex
X-PUBLISHED-TTL:PT1H
BEGIN:VTIMEZONE
TZID:Europe/London
BEGIN:DAYLIGHT
TZOFFSETFROM:+0000
TZOFFSETTO:+0100
TZNAME:BST
DTSTART:20210328T010000
END:DAYLIGHT
BEGIN:STANDARD
TZOFFSETFROM:+0100
TZOFFSETTO:+0000
TZNAME:GMT
DTSTART:20211031T010000
END:STANDARD
BEGIN:DAYLIGHT
TZOFFSETFROM:+0000
TZOFFSETTO:+0100
TZNAME:BST
DTSTART:20220327T010000
END:DAYLIGHT
BEGIN:STANDARD
TZOFFSETFROM:+0100
TZOFFSETTO:+0000
TZNAME:GMT
DTSTART:20221030T010000
END:STANDARD
BEGIN:DAYLIGHT
TZOFFSETFROM:+0000
TZOFFSETTO:+0100
TZNAME:BST
DTSTART:20230326T010000
END:DAYLIGHT
BEGIN:STANDARD
TZOFFSETFROM:+0100
TZOFFSETTO:+0000
TZNAME:GMT
DTSTART:20231029T010000
END:STANDARD
END:VTIMEZONE
BEGIN:VEVENT
DTSTART;TZID=Europe/London:20220810T193000
DTEND;TZID=Europe/London:20220810T223000
DTSTAMP:20260422T085036
CREATED:20220101T120642Z
LAST-MODIFIED:20220101T120642Z
UID:36519-1660159800-1660170600@vespaclub.uk
SUMMARY:VCB Birmingham Cog 2 Meets
DESCRIPTION:Meet up at the Sacks of Potatoes PH. Birmingham B4 7ER\n19:30 Onwards
URL:https://vespaclub.uk/event/vcb-birmingham-cog-2-meets-5/
CATEGORIES:General Public,Members Only
END:VEVENT
BEGIN:VEVENT
DTSTART;TZID=Europe/London:20220813T080000
DTEND;TZID=Europe/London:20220813T170000
DTSTAMP:20260422T085036
CREATED:20211213T132716Z
LAST-MODIFIED:20211213T132716Z
UID:35759-1660377600-1660410000@vespaclub.uk
SUMMARY:Essex Vespa Club Meet
DESCRIPTION:Essex Vespa Club meets at the Railway Tavern\, High Street\, Kelvedon\, Essex from mid-day.
URL:https://vespaclub.uk/event/essex-vespa-club-meet-7/
CATEGORIES:General Public,Members Only
ATTACH;FMTTYPE=image/png:https://vespaclub.uk/wp-content/uploads/2020/02/Essex.png
END:VEVENT
BEGIN:VEVENT
DTSTART;VALUE=DATE:20220826
DTEND;VALUE=DATE:20220830
DTSTAMP:20260422T085036
CREATED:20211130T220632Z
LAST-MODIFIED:20211130T220632Z
UID:32817-1661472000-1661817599@vespaclub.uk
SUMMARY:BSRA National Scooter Rally Isle of Wight
DESCRIPTION:
URL:https://vespaclub.uk/event/bsra-national-scooter-rally-isle-of-wight/
CATEGORIES:General Public
END:VEVENT
END:VCALENDAR